BEGIN:VCALENDAR
VERSION:2.0
PRODID:-//Goldgrube//myauktion.com//AT
CALSCALE:GREGORIAN
BEGIN:VEVENT
DTSTART:20260505T100300
DTEND:20260505T100330
LOCATION:Gewerbepark 13, 8562 Mooskirchen
DTSTAMP:20260421T191053
SUMMARY:MyAuktion: Ablauf Artikel Nr. 956872 Diverse Steck Teppich Teile 
URL;VALUE=URI:https://www.myauktion.com/versteigerung7652-position2442320-diverse-steck-teppich-teile.php
DESCRIPTION:Keine weiteren Daten ersichtlich
UID:myauktion-7652-2442320
BEGIN:VALARM
ACTION:DISPLAY
DESCRIPTION:Keine weiteren Daten ersichtlich
TRIGGER:-PT10M
END:VALARM
END:VEVENT
END:VCALENDAR