BEGIN:VCALENDAR
VERSION:2.0
PRODID:-//Goldgrube//myauktion.com//AT
CALSCALE:GREGORIAN
BEGIN:VEVENT
DTSTART:20260505T112300
DTEND:20260505T112330
LOCATION:Gewerbepark 13, 8562 Mooskirchen
DTSTAMP:20260421T191059
SUMMARY:MyAuktion: Ablauf Artikel Nr. 957113 Domo Pizza Eisen 
URL;VALUE=URI:https://www.myauktion.com/versteigerung7652-position2442322-domo-pizza-eisen.php
DESCRIPTION:Durchmesser ca 33cm, Model Nr. DO9177PZ
UID:myauktion-7652-2442322
BEGIN:VALARM
ACTION:DISPLAY
DESCRIPTION:Durchmesser ca 33cm, Model Nr. DO9177PZ
TRIGGER:-PT10M
END:VALARM
END:VEVENT
END:VCALENDAR