BEGIN:VCALENDAR
VERSION:2.0
PRODID:-//Goldgrube//myauktion.com//AT
CALSCALE:GREGORIAN
BEGIN:VEVENT
DTSTART:20260505T100400
DTEND:20260505T100430
LOCATION:Gewerbepark 13, 8562 Mooskirchen
DTSTAMP:20260421T191055
SUMMARY:MyAuktion: Ablauf Artikel Nr. 956873 7 Channel 2U install mixer 3 Zones D2351
URL;VALUE=URI:https://www.myauktion.com/versteigerung7652-position2442323-7-channel-2u-install-mixer-3-zones-d2351.php
DESCRIPTION:Verpackung beschädigt 
UID:myauktion-7652-2442323
BEGIN:VALARM
ACTION:DISPLAY
DESCRIPTION:Verpackung beschädigt 
TRIGGER:-PT10M
END:VALARM
END:VEVENT
END:VCALENDAR