BEGIN:VCALENDAR
VERSION:2.0
PRODID:-//Goldgrube//myauktion.com//AT
CALSCALE:GREGORIAN
BEGIN:VEVENT
DTSTART:20260505T091900
DTEND:20260505T091930
LOCATION:Gewerbepark 13, 8562 Mooskirchen
DTSTAMP:20260421T173932
SUMMARY:MyAuktion: Ablauf Artikel Nr. 955801 Südwind SDG Quiz Level2 ab 12 Jahren 
URL;VALUE=URI:https://www.myauktion.com/versteigerung7652-position2442325-suedwind-sdg-quiz-level2-ab-12-jahren.php
DESCRIPTION:
UID:myauktion-7652-2442325
BEGIN:VALARM
ACTION:DISPLAY
DESCRIPTION:
TRIGGER:-PT10M
END:VALARM
END:VEVENT
END:VCALENDAR