BEGIN:VCALENDAR
VERSION:2.0
PRODID:-//Goldgrube//myauktion.com//AT
CALSCALE:GREGORIAN
BEGIN:VEVENT
DTSTART:20260505T100500
DTEND:20260505T100530
LOCATION:Gewerbepark 13, 8562 Mooskirchen
DTSTAMP:20260421T191053
SUMMARY:MyAuktion: Ablauf Artikel Nr. 956874 WMF Signature Corvo Besteck-Set 30tlg. 
URL;VALUE=URI:https://www.myauktion.com/versteigerung7652-position2442326-wmf-signature-corvo-besteck-set-30tlg.php
DESCRIPTION:Verpackung beschädigt 
UID:myauktion-7652-2442326
BEGIN:VALARM
ACTION:DISPLAY
DESCRIPTION:Verpackung beschädigt 
TRIGGER:-PT10M
END:VALARM
END:VEVENT
END:VCALENDAR