BEGIN:VCALENDAR
VERSION:2.0
PRODID:-//Goldgrube//myauktion.com//AT
CALSCALE:GREGORIAN
BEGIN:VEVENT
DTSTART:20260505T112400
DTEND:20260505T112430
LOCATION:Gewerbepark 13, 8562 Mooskirchen
DTSTAMP:20260421T191052
SUMMARY:MyAuktion: Ablauf Artikel Nr. 957114 Yamaha Recording Custom Snare Drum
URL;VALUE=URI:https://www.myauktion.com/versteigerung7652-position2442327-yamaha-recording-custom-snare-drum.php
DESCRIPTION:Durchmesser 37cm, Höhe 15cm, Gebraucht
UID:myauktion-7652-2442327
BEGIN:VALARM
ACTION:DISPLAY
DESCRIPTION:Durchmesser 37cm, Höhe 15cm, Gebraucht
TRIGGER:-PT10M
END:VALARM
END:VEVENT
END:VCALENDAR