BEGIN:VCALENDAR
VERSION:2.0
PRODID:-//Goldgrube//myauktion.com//AT
CALSCALE:GREGORIAN
BEGIN:VEVENT
DTSTART:20260505T112600
DTEND:20260505T112630
LOCATION:Gewerbepark 13, 8562 Mooskirchen
DTSTAMP:20260421T191059
SUMMARY:MyAuktion: Ablauf Artikel Nr. 957116 Dampfreiniger inklusive Zubehör 
URL;VALUE=URI:https://www.myauktion.com/versteigerung7652-position2442333-dampfreiniger-inklusive-zubehoer.php
DESCRIPTION:Gebraucht
UID:myauktion-7652-2442333
BEGIN:VALARM
ACTION:DISPLAY
DESCRIPTION:Gebraucht
TRIGGER:-PT10M
END:VALARM
END:VEVENT
END:VCALENDAR