BEGIN:VCALENDAR
VERSION:2.0
PRODID:-//Goldgrube//myauktion.com//AT
CALSCALE:GREGORIAN
BEGIN:VEVENT
DTSTART:20260505T093200
DTEND:20260505T093230
LOCATION:Gewerbepark 13, 8562 Mooskirchen
DTSTAMP:20260421T173934
SUMMARY:MyAuktion: Ablauf Artikel Nr. 955803 Merka Lang Spiegel für LKW oder Bus E1 021165 ca 39x23
URL;VALUE=URI:https://www.myauktion.com/versteigerung7652-position2442334-merka-lang-spiegel-fuer-lkw-oder-bus-e1-021165-ca-39x23.php
DESCRIPTION:
UID:myauktion-7652-2442334
BEGIN:VALARM
ACTION:DISPLAY
DESCRIPTION:
TRIGGER:-PT10M
END:VALARM
END:VEVENT
END:VCALENDAR