BEGIN:VCALENDAR
VERSION:2.0
PRODID:-//Goldgrube//myauktion.com//AT
CALSCALE:GREGORIAN
BEGIN:VEVENT
DTSTART:20260505T112700
DTEND:20260505T112730
LOCATION:Gewerbepark 13, 8562 Mooskirchen
DTSTAMP:20260421T191056
SUMMARY:MyAuktion: Ablauf Artikel Nr. 957117 Greenworks Commercial Tool Ladegrät 
URL;VALUE=URI:https://www.myauktion.com/versteigerung7652-position2442336-greenworks-commercial-tool-ladegraet.php
DESCRIPTION:Ca 18×19cm, Model Nr. 2914707
UID:myauktion-7652-2442336
BEGIN:VALARM
ACTION:DISPLAY
DESCRIPTION:Ca 18×19cm, Model Nr. 2914707
TRIGGER:-PT10M
END:VALARM
END:VEVENT
END:VCALENDAR