BEGIN:VCALENDAR
VERSION:2.0
PRODID:-//Goldgrube//myauktion.com//AT
CALSCALE:GREGORIAN
BEGIN:VEVENT
DTSTART:20260505T100800
DTEND:20260505T100830
LOCATION:Gewerbepark 13, 8562 Mooskirchen
DTSTAMP:20260421T191056
SUMMARY:MyAuktion: Ablauf Artikel Nr. 956877 Einhell Akku-Bohrhammer TE-HD 18/20 Li-Solo 45.142.60 
URL;VALUE=URI:https://www.myauktion.com/versteigerung7652-position2442337-einhell-akku-bohrhammer-te-hd-18-20-li-solo-4514260.php
DESCRIPTION:
UID:myauktion-7652-2442337
BEGIN:VALARM
ACTION:DISPLAY
DESCRIPTION:
TRIGGER:-PT10M
END:VALARM
END:VEVENT
END:VCALENDAR