BEGIN:VCALENDAR
VERSION:2.0
PRODID:-//Goldgrube//myauktion.com//AT
CALSCALE:GREGORIAN
BEGIN:VEVENT
DTSTART:20260505T093300
DTEND:20260505T093330
LOCATION:Gewerbepark 13, 8562 Mooskirchen
DTSTAMP:20260421T173933
SUMMARY:MyAuktion: Ablauf Artikel Nr. 955804 Mephisto milano pro Power Consumption 270mW max MO535173 
URL;VALUE=URI:https://www.myauktion.com/versteigerung7652-position2442338-mephisto-milano-pro-power-consumption-270mw-max-mo535173.php
DESCRIPTION:
UID:myauktion-7652-2442338
BEGIN:VALARM
ACTION:DISPLAY
DESCRIPTION:
TRIGGER:-PT10M
END:VALARM
END:VEVENT
END:VCALENDAR