BEGIN:VCALENDAR
VERSION:2.0
PRODID:-//Goldgrube//myauktion.com//AT
CALSCALE:GREGORIAN
BEGIN:VEVENT
DTSTART:20260505T112800
DTEND:20260505T112830
LOCATION:Gewerbepark 13, 8562 Mooskirchen
DTSTAMP:20260421T191054
SUMMARY:MyAuktion: Ablauf Artikel Nr. 957118 Greenworks Commercial Tool 5.0AH Litium-Ion Akku 
URL;VALUE=URI:https://www.myauktion.com/versteigerung7652-position2442339-greenworks-commercial-tool-50ah-litium-ion-akku.php
DESCRIPTION:Ca 21,5×12cm, Model Nr. 2914607
UID:myauktion-7652-2442339
BEGIN:VALARM
ACTION:DISPLAY
DESCRIPTION:Ca 21,5×12cm, Model Nr. 2914607
TRIGGER:-PT10M
END:VALARM
END:VEVENT
END:VCALENDAR