BEGIN:VCALENDAR
VERSION:2.0
PRODID:-//Goldgrube//myauktion.com//AT
CALSCALE:GREGORIAN
BEGIN:VEVENT
DTSTART:20260505T130300
DTEND:20260505T130330
LOCATION:Gewerbepark 13, 8562 Mooskirchen
DTSTAMP:20260421T191100
SUMMARY:MyAuktion: Ablauf Artikel Nr. 963394 Ikea Eåskog 105 917 66
URL;VALUE=URI:https://www.myauktion.com/versteigerung7652-position2442340-ikea-eskog-105-917-66.php
DESCRIPTION:Laut foto
UID:myauktion-7652-2442340
BEGIN:VALARM
ACTION:DISPLAY
DESCRIPTION:Laut foto
TRIGGER:-PT10M
END:VALARM
END:VEVENT
END:VCALENDAR