BEGIN:VCALENDAR
VERSION:2.0
PRODID:-//Goldgrube//myauktion.com//AT
CALSCALE:GREGORIAN
BEGIN:VEVENT
DTSTART:20260505T100900
DTEND:20260505T100930
LOCATION:Gewerbepark 13, 8562 Mooskirchen
DTSTAMP:20260421T191100
SUMMARY:MyAuktion: Ablauf Artikel Nr. 956878 Christian Martinez Inis Legendary Edition Brettspiel 
URL;VALUE=URI:https://www.myauktion.com/versteigerung7652-position2442341-christian-martinez-inis-legendary-edition-brettspiel.php
DESCRIPTION:
UID:myauktion-7652-2442341
BEGIN:VALARM
ACTION:DISPLAY
DESCRIPTION:
TRIGGER:-PT10M
END:VALARM
END:VEVENT
END:VCALENDAR