BEGIN:VCALENDAR
VERSION:2.0
PRODID:-//Goldgrube//myauktion.com//AT
CALSCALE:GREGORIAN
BEGIN:VEVENT
DTSTART:20260505T101100
DTEND:20260505T101130
LOCATION:Gewerbepark 13, 8562 Mooskirchen
DTSTAMP:20260421T191058
SUMMARY:MyAuktion: Ablauf Artikel Nr. 956880 Inis 3rd Edition Protective Card Sleeves 
URL;VALUE=URI:https://www.myauktion.com/versteigerung7652-position2442346-inis-3rd-edition-protective-card-sleeves.php
DESCRIPTION:
UID:myauktion-7652-2442346
BEGIN:VALARM
ACTION:DISPLAY
DESCRIPTION:
TRIGGER:-PT10M
END:VALARM
END:VEVENT
END:VCALENDAR