BEGIN:VCALENDAR
VERSION:2.0
PRODID:-//Goldgrube//myauktion.com//AT
CALSCALE:GREGORIAN
BEGIN:VEVENT
DTSTART:20260505T101300
DTEND:20260505T101330
LOCATION:Gewerbepark 13, 8562 Mooskirchen
DTSTAMP:20260421T175851
SUMMARY:MyAuktion: Ablauf Artikel Nr. 956882 Pampers fresh clean 15x80Baby Wipes 
URL;VALUE=URI:https://www.myauktion.com/versteigerung7652-position2442349-pampers-fresh-clean-15x80baby-wipes.php
DESCRIPTION:
UID:myauktion-7652-2442349
BEGIN:VALARM
ACTION:DISPLAY
DESCRIPTION:
TRIGGER:-PT10M
END:VALARM
END:VEVENT
END:VCALENDAR