BEGIN:VCALENDAR
VERSION:2.0
PRODID:-//Goldgrube//myauktion.com//AT
CALSCALE:GREGORIAN
BEGIN:VEVENT
DTSTART:20260505T113000
DTEND:20260505T113030
LOCATION:Gewerbepark 13, 8562 Mooskirchen
DTSTAMP:20260421T191054
SUMMARY:MyAuktion: Ablauf Artikel Nr. 957120 GTV AXIS PRO Schubladensystem
URL;VALUE=URI:https://www.myauktion.com/versteigerung7652-position2442354-gtv-axis-pro-schubladensystem.php
DESCRIPTION:Ca 54,5×9cm
UID:myauktion-7652-2442354
BEGIN:VALARM
ACTION:DISPLAY
DESCRIPTION:Ca 54,5×9cm
TRIGGER:-PT10M
END:VALARM
END:VEVENT
END:VCALENDAR