BEGIN:VCALENDAR
VERSION:2.0
PRODID:-//Goldgrube//myauktion.com//AT
CALSCALE:GREGORIAN
BEGIN:VEVENT
DTSTART:20260505T130800
DTEND:20260505T130830
LOCATION:Gewerbepark 13, 8562 Mooskirchen
DTSTAMP:20260421T175851
SUMMARY:MyAuktion: Ablauf Artikel Nr. 963399 Cooker Cube CO² 4x 
URL;VALUE=URI:https://www.myauktion.com/versteigerung7652-position2442355-cooker-cube-co-4x.php
DESCRIPTION:Leer
UID:myauktion-7652-2442355
BEGIN:VALARM
ACTION:DISPLAY
DESCRIPTION:Leer
TRIGGER:-PT10M
END:VALARM
END:VEVENT
END:VCALENDAR