BEGIN:VCALENDAR
VERSION:2.0
PRODID:-//Goldgrube//myauktion.com//AT
CALSCALE:GREGORIAN
BEGIN:VEVENT
DTSTART:20260505T101600
DTEND:20260505T101630
LOCATION:Gewerbepark 13, 8562 Mooskirchen
DTSTAMP:20260421T191055
SUMMARY:MyAuktion: Ablauf Artikel Nr. 956884 Nintendo Switch Mariokart Live Home Circuit Luigi Set 
URL;VALUE=URI:https://www.myauktion.com/versteigerung7652-position2442358-nintendo-switch-mariokart-live-home-circuit-luigi-set.php
DESCRIPTION:Gebraucht, Funktion nicht getestet 
UID:myauktion-7652-2442358
BEGIN:VALARM
ACTION:DISPLAY
DESCRIPTION:Gebraucht, Funktion nicht getestet 
TRIGGER:-PT10M
END:VALARM
END:VEVENT
END:VCALENDAR