BEGIN:VCALENDAR
VERSION:2.0
PRODID:-//Goldgrube//myauktion.com//AT
CALSCALE:GREGORIAN
BEGIN:VEVENT
DTSTART:20260505T101700
DTEND:20260505T101730
LOCATION:Gewerbepark 13, 8562 Mooskirchen
DTSTAMP:20260421T191055
SUMMARY:MyAuktion: Ablauf Artikel Nr. 956885 Sinsay home Nachtkasten schwarz 
URL;VALUE=URI:https://www.myauktion.com/versteigerung7652-position2442360-sinsay-home-nachtkasten-schwarz.php
DESCRIPTION:Beschädigt 
UID:myauktion-7652-2442360
BEGIN:VALARM
ACTION:DISPLAY
DESCRIPTION:Beschädigt 
TRIGGER:-PT10M
END:VALARM
END:VEVENT
END:VCALENDAR