BEGIN:VCALENDAR
VERSION:2.0
PRODID:-//Goldgrube//myauktion.com//AT
CALSCALE:GREGORIAN
BEGIN:VEVENT
DTSTART:20260505T131000
DTEND:20260505T131030
LOCATION:Gewerbepark 13, 8562 Mooskirchen
DTSTAMP:20260421T173932
SUMMARY:MyAuktion: Ablauf Artikel Nr. 963401 Samsung S25 Ultra SM-S938 DS Titanium Black
URL;VALUE=URI:https://www.myauktion.com/versteigerung7652-position2442361-samsung-s25-ultra-sm-s938-ds-titanium-black.php
DESCRIPTION:<div>12GB , 256GB,</div>
UID:myauktion-7652-2442361
BEGIN:VALARM
ACTION:DISPLAY
DESCRIPTION:<div>12GB , 256GB,</div>
TRIGGER:-PT10M
END:VALARM
END:VEVENT
END:VCALENDAR