BEGIN:VCALENDAR
VERSION:2.0
PRODID:-//Goldgrube//myauktion.com//AT
CALSCALE:GREGORIAN
BEGIN:VEVENT
DTSTART:20260505T090300
DTEND:20260505T090330
LOCATION:Gewerbepark 13, 8562 Mooskirchen
DTSTAMP:20260421T173934
SUMMARY:MyAuktion: Ablauf Artikel Nr. 955756 Depot Weihnachskugeln Aus Glas 12 Stk 6cm 
URL;VALUE=URI:https://www.myauktion.com/versteigerung7652-position2442367-depot-weihnachskugeln-aus-glas-12-stk-6cm.php
DESCRIPTION:
UID:myauktion-7652-2442367
BEGIN:VALARM
ACTION:DISPLAY
DESCRIPTION:
TRIGGER:-PT10M
END:VALARM
END:VEVENT
END:VCALENDAR