BEGIN:VCALENDAR
VERSION:2.0
PRODID:-//Goldgrube//myauktion.com//AT
CALSCALE:GREGORIAN
BEGIN:VEVENT
DTSTART:20260505T090500
DTEND:20260505T090530
LOCATION:Gewerbepark 13, 8562 Mooskirchen
DTSTAMP:20260421T173933
SUMMARY:MyAuktion: Ablauf Artikel Nr. 955757 Depot Baumkugeln 12 Stk Aus Glas 6cm grün 
URL;VALUE=URI:https://www.myauktion.com/versteigerung7652-position2442370-depot-baumkugeln-12-stk-aus-glas-6cm-gruen.php
DESCRIPTION:1 Kugel kaputt 
UID:myauktion-7652-2442370
BEGIN:VALARM
ACTION:DISPLAY
DESCRIPTION:1 Kugel kaputt 
TRIGGER:-PT10M
END:VALARM
END:VEVENT
END:VCALENDAR