BEGIN:VCALENDAR
VERSION:2.0
PRODID:-//Goldgrube//myauktion.com//AT
CALSCALE:GREGORIAN
BEGIN:VEVENT
DTSTART:20260505T102200
DTEND:20260505T102230
LOCATION:Gewerbepark 13, 8562 Mooskirchen
DTSTAMP:20260421T191102
SUMMARY:MyAuktion: Ablauf Artikel Nr. 956890 Sodastream Crystal 3.0 Wassersprudler 
URL;VALUE=URI:https://www.myauktion.com/versteigerung7652-position2442371-sodastream-crystal-30-wassersprudler.php
DESCRIPTION:Gebraucht, Funktion nicht getestet 
UID:myauktion-7652-2442371
BEGIN:VALARM
ACTION:DISPLAY
DESCRIPTION:Gebraucht, Funktion nicht getestet 
TRIGGER:-PT10M
END:VALARM
END:VEVENT
END:VCALENDAR