BEGIN:VCALENDAR
VERSION:2.0
PRODID:-//Goldgrube//myauktion.com//AT
CALSCALE:GREGORIAN
BEGIN:VEVENT
DTSTART:20260505T115900
DTEND:20260505T115930
LOCATION:Gewerbepark 13, 8562 Mooskirchen
DTSTAMP:20260421T185423
SUMMARY:MyAuktion: Ablauf Artikel Nr. 957585 Samsung Galaxy A26 5G  SM A266B DS Black 
URL;VALUE=URI:https://www.myauktion.com/versteigerung7652-position2442372-samsung-galaxy-a26-5g-sm-a266b-ds-black.php
DESCRIPTION:8GB, 256GB 
UID:myauktion-7652-2442372
BEGIN:VALARM
ACTION:DISPLAY
DESCRIPTION:8GB, 256GB 
TRIGGER:-PT10M
END:VALARM
END:VEVENT
END:VCALENDAR