BEGIN:VCALENDAR
VERSION:2.0
PRODID:-//Goldgrube//myauktion.com//AT
CALSCALE:GREGORIAN
BEGIN:VEVENT
DTSTART:20260505T102300
DTEND:20260505T102330
LOCATION:Gewerbepark 13, 8562 Mooskirchen
DTSTAMP:20260421T191057
SUMMARY:MyAuktion: Ablauf Artikel Nr. 956891 Ez Well Remedy X Massage Auflage 601305/1 
URL;VALUE=URI:https://www.myauktion.com/versteigerung7652-position2442375-ez-well-remedy-x-massage-auflage-601305-1.php
DESCRIPTION:
UID:myauktion-7652-2442375
BEGIN:VALARM
ACTION:DISPLAY
DESCRIPTION:
TRIGGER:-PT10M
END:VALARM
END:VEVENT
END:VCALENDAR