BEGIN:VCALENDAR
VERSION:2.0
PRODID:-//Goldgrube//myauktion.com//AT
CALSCALE:GREGORIAN
BEGIN:VEVENT
DTSTART:20260505T113300
DTEND:20260505T113330
LOCATION:Gewerbepark 13, 8562 Mooskirchen
DTSTAMP:20260421T191101
SUMMARY:MyAuktion: Ablauf Artikel Nr. 957123 Matratze Härtegrad H3
URL;VALUE=URI:https://www.myauktion.com/versteigerung7652-position2442376-matratze-haertegrad-h3.php
DESCRIPTION:200×80cm
UID:myauktion-7652-2442376
BEGIN:VALARM
ACTION:DISPLAY
DESCRIPTION:200×80cm
TRIGGER:-PT10M
END:VALARM
END:VEVENT
END:VCALENDAR