BEGIN:VCALENDAR
VERSION:2.0
PRODID:-//Goldgrube//myauktion.com//AT
CALSCALE:GREGORIAN
BEGIN:VEVENT
DTSTART:20260505T113400
DTEND:20260505T113430
LOCATION:Gewerbepark 13, 8562 Mooskirchen
DTSTAMP:20260421T173934
SUMMARY:MyAuktion: Ablauf Artikel Nr. 957124 Sharp 55-Zoll QLED 4K Ultra HD Ferneher 
URL;VALUE=URI:https://www.myauktion.com/versteigerung7652-position2442377-sharp-55-zoll-qled-4k-ultra-hd-ferneher.php
DESCRIPTION:Ca 133,5×83,5cm 
UID:myauktion-7652-2442377
BEGIN:VALARM
ACTION:DISPLAY
DESCRIPTION:Ca 133,5×83,5cm 
TRIGGER:-PT10M
END:VALARM
END:VEVENT
END:VCALENDAR