BEGIN:VCALENDAR
VERSION:2.0
PRODID:-//Goldgrube//myauktion.com//AT
CALSCALE:GREGORIAN
BEGIN:VEVENT
DTSTART:20260505T102400
DTEND:20260505T102430
LOCATION:Gewerbepark 13, 8562 Mooskirchen
DTSTAMP:20260421T191054
SUMMARY:MyAuktion: Ablauf Artikel Nr. 956892 Husqvarna Automower 310E/410XR Nera Zubehör
URL;VALUE=URI:https://www.myauktion.com/versteigerung7652-position2442378-husqvarna-automower-310e-410xr-nera-zubehoer.php
DESCRIPTION:<div> </div>
UID:myauktion-7652-2442378
BEGIN:VALARM
ACTION:DISPLAY
DESCRIPTION:<div> </div>
TRIGGER:-PT10M
END:VALARM
END:VEVENT
END:VCALENDAR