BEGIN:VCALENDAR
VERSION:2.0
PRODID:-//Goldgrube//myauktion.com//AT
CALSCALE:GREGORIAN
BEGIN:VEVENT
DTSTART:20260505T090800
DTEND:20260505T090830
LOCATION:Gewerbepark 13, 8562 Mooskirchen
DTSTAMP:20260421T173935
SUMMARY:MyAuktion: Ablauf Artikel Nr. 955759 Beuer Heaty Battery Operated Premium Art.Nr: 20079 ca 46x46 cm
URL;VALUE=URI:https://www.myauktion.com/versteigerung7652-position2442379-beuer-heaty-battery-operated-premium-artnr-20079-ca-46x46-cm.php
DESCRIPTION:
UID:myauktion-7652-2442379
BEGIN:VALARM
ACTION:DISPLAY
DESCRIPTION:
TRIGGER:-PT10M
END:VALARM
END:VEVENT
END:VCALENDAR