BEGIN:VCALENDAR
VERSION:2.0
PRODID:-//Goldgrube//myauktion.com//AT
CALSCALE:GREGORIAN
BEGIN:VEVENT
DTSTART:20260505T113500
DTEND:20260505T113530
LOCATION:Gewerbepark 13, 8562 Mooskirchen
DTSTAMP:20260421T191058
SUMMARY:MyAuktion: Ablauf Artikel Nr. 957125  Gemälde "Daniel in the Lion&#39;s Den" von Briton Riviere
URL;VALUE=URI:https://www.myauktion.com/versteigerung7652-position2442382--gemaelde-34daniel-in-the-lion-39s-den-34-von-briton-riviere.php
DESCRIPTION:Leinwanddruck, ca 122×82cm
UID:myauktion-7652-2442382
BEGIN:VALARM
ACTION:DISPLAY
DESCRIPTION:Leinwanddruck, ca 122×82cm
TRIGGER:-PT10M
END:VALARM
END:VEVENT
END:VCALENDAR