BEGIN:VCALENDAR
VERSION:2.0
PRODID:-//Goldgrube//myauktion.com//AT
CALSCALE:GREGORIAN
BEGIN:VEVENT
DTSTART:20260505T102600
DTEND:20260505T102630
LOCATION:Gewerbepark 13, 8562 Mooskirchen
DTSTAMP:20260421T191101
SUMMARY:MyAuktion: Ablauf Artikel Nr. 956894 PureLink Speaker Cable SE-SP071-100 100m white 
URL;VALUE=URI:https://www.myauktion.com/versteigerung7652-position2442383-purelink-speaker-cable-se-sp071-100-100m-white.php
DESCRIPTION:
UID:myauktion-7652-2442383
BEGIN:VALARM
ACTION:DISPLAY
DESCRIPTION:
TRIGGER:-PT10M
END:VALARM
END:VEVENT
END:VCALENDAR