BEGIN:VCALENDAR
VERSION:2.0
PRODID:-//Goldgrube//myauktion.com//AT
CALSCALE:GREGORIAN
BEGIN:VEVENT
DTSTART:20260505T113700
DTEND:20260505T113730
LOCATION:Gewerbepark 13, 8562 Mooskirchen
DTSTAMP:20260421T185422
SUMMARY:MyAuktion: Ablauf Artikel Nr. 957127 Ballarini Cuvina Italiana Emaillierter Gusseiesenbräter
URL;VALUE=URI:https://www.myauktion.com/versteigerung7652-position2442387-ballarini-cuvina-italiana-emaillierter-gusseiesenbraeter.php
DESCRIPTION:Ca 31×26,5×10cm
UID:myauktion-7652-2442387
BEGIN:VALARM
ACTION:DISPLAY
DESCRIPTION:Ca 31×26,5×10cm
TRIGGER:-PT10M
END:VALARM
END:VEVENT
END:VCALENDAR