BEGIN:VCALENDAR
VERSION:2.0
PRODID:-//Goldgrube//myauktion.com//AT
CALSCALE:GREGORIAN
BEGIN:VEVENT
DTSTART:20260505T120300
DTEND:20260505T120330
LOCATION:Gewerbepark 13, 8562 Mooskirchen
DTSTAMP:20260421T191051
SUMMARY:MyAuktion: Ablauf Artikel Nr. 957589 Bellanx Ceranfeld Glaskeramikkochfeld 2 Platten mit Stecker 3500W  
URL;VALUE=URI:https://www.myauktion.com/versteigerung7652-position2442388-bellanx-ceranfeld-glaskeramikkochfeld-2-platten-mit-stecker-3500w.php
DESCRIPTION:
UID:myauktion-7652-2442388
BEGIN:VALARM
ACTION:DISPLAY
DESCRIPTION:
TRIGGER:-PT10M
END:VALARM
END:VEVENT
END:VCALENDAR