BEGIN:VCALENDAR
VERSION:2.0
PRODID:-//Goldgrube//myauktion.com//AT
CALSCALE:GREGORIAN
BEGIN:VEVENT
DTSTART:20260505T113800
DTEND:20260505T113830
LOCATION:Gewerbepark 13, 8562 Mooskirchen
DTSTAMP:20260421T191056
SUMMARY:MyAuktion: Ablauf Artikel Nr. 957128 Lego Architecture Trevi Fountain 1880 Teile
URL;VALUE=URI:https://www.myauktion.com/versteigerung7652-position2442390-lego-architecture-trevi-fountain-1880-teile.php
DESCRIPTION:No. 21062, Verpackung beschädigt
UID:myauktion-7652-2442390
BEGIN:VALARM
ACTION:DISPLAY
DESCRIPTION:No. 21062, Verpackung beschädigt
TRIGGER:-PT10M
END:VALARM
END:VEVENT
END:VCALENDAR