BEGIN:VCALENDAR
VERSION:2.0
PRODID:-//Goldgrube//myauktion.com//AT
CALSCALE:GREGORIAN
BEGIN:VEVENT
DTSTART:20260505T103700
DTEND:20260505T103730
LOCATION:Gewerbepark 13, 8562 Mooskirchen
DTSTAMP:20260421T183739
SUMMARY:MyAuktion: Ablauf Artikel Nr. 956896 Mino Keramik Geschirr 2x Müslischale 4xTassen 1xBecher 
URL;VALUE=URI:https://www.myauktion.com/versteigerung7652-position2442392-mino-keramik-geschirr-2x-mueslischale-4xtassen-1xbecher.php
DESCRIPTION:
UID:myauktion-7652-2442392
BEGIN:VALARM
ACTION:DISPLAY
DESCRIPTION:
TRIGGER:-PT10M
END:VALARM
END:VEVENT
END:VCALENDAR