BEGIN:VCALENDAR
VERSION:2.0
PRODID:-//Goldgrube//myauktion.com//AT
CALSCALE:GREGORIAN
BEGIN:VEVENT
DTSTART:20260505T103800
DTEND:20260505T103830
LOCATION:Gewerbepark 13, 8562 Mooskirchen
DTSTAMP:20260421T173931
SUMMARY:MyAuktion: Ablauf Artikel Nr. 956897 DeLonghi Kaffeevollautomat ECAM20.110.B 
URL;VALUE=URI:https://www.myauktion.com/versteigerung7652-position2442395-delonghi-kaffeevollautomat-ecam20110b.php
DESCRIPTION:
UID:myauktion-7652-2442395
BEGIN:VALARM
ACTION:DISPLAY
DESCRIPTION:
TRIGGER:-PT10M
END:VALARM
END:VEVENT
END:VCALENDAR