BEGIN:VCALENDAR
VERSION:2.0
PRODID:-//Goldgrube//myauktion.com//AT
CALSCALE:GREGORIAN
BEGIN:VEVENT
DTSTART:20260505T114300
DTEND:20260505T114330
LOCATION:Gewerbepark 13, 8562 Mooskirchen
DTSTAMP:20260421T191058
SUMMARY:MyAuktion: Ablauf Artikel Nr. 957130 ES-AHV Serie Montageset für Solarmodule
URL;VALUE=URI:https://www.myauktion.com/versteigerung7652-position2442398-es-ahv-serie-montageset-fuer-solarmodule.php
DESCRIPTION:Ca 78cm lang
UID:myauktion-7652-2442398
BEGIN:VALARM
ACTION:DISPLAY
DESCRIPTION:Ca 78cm lang
TRIGGER:-PT10M
END:VALARM
END:VEVENT
END:VCALENDAR