BEGIN:VCALENDAR
VERSION:2.0
PRODID:-//Goldgrube//myauktion.com//AT
CALSCALE:GREGORIAN
BEGIN:VEVENT
DTSTART:20260505T103900
DTEND:20260505T103930
LOCATION:Gewerbepark 13, 8562 Mooskirchen
DTSTAMP:20260421T191100
SUMMARY:MyAuktion: Ablauf Artikel Nr. 956898 Stasto NM52W1S-PR-IL 
URL;VALUE=URI:https://www.myauktion.com/versteigerung7652-position2442399-stasto-nm52w1s-pr-il.php
DESCRIPTION:Keine weiteren Daten ersichtlich
UID:myauktion-7652-2442399
BEGIN:VALARM
ACTION:DISPLAY
DESCRIPTION:Keine weiteren Daten ersichtlich
TRIGGER:-PT10M
END:VALARM
END:VEVENT
END:VCALENDAR