BEGIN:VCALENDAR
VERSION:2.0
PRODID:-//Goldgrube//myauktion.com//AT
CALSCALE:GREGORIAN
BEGIN:VEVENT
DTSTART:20260505T124000
DTEND:20260505T124030
LOCATION:Gewerbepark 13, 8562 Mooskirchen
DTSTAMP:20260421T162622
SUMMARY:MyAuktion: Ablauf Artikel Nr. 957850 ESN Elite Sport Nutrition ca 20 cm 
URL;VALUE=URI:https://www.myauktion.com/versteigerung7652-position2442400-esn-elite-sport-nutrition-ca-20-cm.php
DESCRIPTION:
UID:myauktion-7652-2442400
BEGIN:VALARM
ACTION:DISPLAY
DESCRIPTION:
TRIGGER:-PT10M
END:VALARM
END:VEVENT
END:VCALENDAR