BEGIN:VCALENDAR
VERSION:2.0
PRODID:-//Goldgrube//myauktion.com//AT
CALSCALE:GREGORIAN
BEGIN:VEVENT
DTSTART:20260505T114400
DTEND:20260505T114430
LOCATION:Gewerbepark 13, 8562 Mooskirchen
DTSTAMP:20260421T191102
SUMMARY:MyAuktion: Ablauf Artikel Nr. 957131 Modernes Polster mit Kunstlederbezug 
URL;VALUE=URI:https://www.myauktion.com/versteigerung7652-position2442402-modernes-polster-mit-kunstlederbezug.php
DESCRIPTION:Ca 40×30×19cm
UID:myauktion-7652-2442402
BEGIN:VALARM
ACTION:DISPLAY
DESCRIPTION:Ca 40×30×19cm
TRIGGER:-PT10M
END:VALARM
END:VEVENT
END:VCALENDAR