BEGIN:VCALENDAR
VERSION:2.0
PRODID:-//Goldgrube//myauktion.com//AT
CALSCALE:GREGORIAN
BEGIN:VEVENT
DTSTART:20260505T124200
DTEND:20260505T124230
LOCATION:Gewerbepark 13, 8562 Mooskirchen
DTSTAMP:20260421T175851
SUMMARY:MyAuktion: Ablauf Artikel Nr. 957851 Monat Toiletry bag 27x27cm Lila 
URL;VALUE=URI:https://www.myauktion.com/versteigerung7652-position2442404-monat-toiletry-bag-27x27cm-lila.php
DESCRIPTION:
UID:myauktion-7652-2442404
BEGIN:VALARM
ACTION:DISPLAY
DESCRIPTION:
TRIGGER:-PT10M
END:VALARM
END:VEVENT
END:VCALENDAR