BEGIN:VCALENDAR
VERSION:2.0
PRODID:-//Goldgrube//myauktion.com//AT
CALSCALE:GREGORIAN
BEGIN:VEVENT
DTSTART:20260505T121200
DTEND:20260505T121230
LOCATION:Gewerbepark 13, 8562 Mooskirchen
DTSTAMP:20260421T160737
SUMMARY:MyAuktion: Ablauf Artikel Nr. 957595 HP Premium Kopierpapier 5x 500 Blatt 
URL;VALUE=URI:https://www.myauktion.com/versteigerung7652-position2442405-hp-premium-kopierpapier-5x-500-blatt.php
DESCRIPTION:
UID:myauktion-7652-2442405
BEGIN:VALARM
ACTION:DISPLAY
DESCRIPTION:
TRIGGER:-PT10M
END:VALARM
END:VEVENT
END:VCALENDAR