BEGIN:VCALENDAR
VERSION:2.0
PRODID:-//Goldgrube//myauktion.com//AT
CALSCALE:GREGORIAN
BEGIN:VEVENT
DTSTART:20260505T124400
DTEND:20260505T124430
LOCATION:Gewerbepark 13, 8562 Mooskirchen
DTSTAMP:20260421T191050
SUMMARY:MyAuktion: Ablauf Artikel Nr. 957853 Bo Camp Carry Bag for 2 Chairs 118x65x18cm Grau 
URL;VALUE=URI:https://www.myauktion.com/versteigerung7652-position2442411-bo-camp-carry-bag-for-2-chairs-118x65x18cm-grau.php
DESCRIPTION:
UID:myauktion-7652-2442411
BEGIN:VALARM
ACTION:DISPLAY
DESCRIPTION:
TRIGGER:-PT10M
END:VALARM
END:VEVENT
END:VCALENDAR