BEGIN:VCALENDAR
VERSION:2.0
PRODID:-//Goldgrube//myauktion.com//AT
CALSCALE:GREGORIAN
BEGIN:VEVENT
DTSTART:20260505T121600
DTEND:20260505T121630
LOCATION:Gewerbepark 13, 8562 Mooskirchen
DTSTAMP:20260421T191052
SUMMARY:MyAuktion: Ablauf Artikel Nr. 957599 ESN Socken 
URL;VALUE=URI:https://www.myauktion.com/versteigerung7652-position2442412-esn-socken.php
DESCRIPTION:Gr. 39.5- 43
UID:myauktion-7652-2442412
BEGIN:VALARM
ACTION:DISPLAY
DESCRIPTION:Gr. 39.5- 43
TRIGGER:-PT10M
END:VALARM
END:VEVENT
END:VCALENDAR