BEGIN:VCALENDAR
VERSION:2.0
PRODID:-//Goldgrube//myauktion.com//AT
CALSCALE:GREGORIAN
BEGIN:VEVENT
DTSTART:20260505T124500
DTEND:20260505T124530
LOCATION:Gewerbepark 13, 8562 Mooskirchen
DTSTAMP:20260421T191051
SUMMARY:MyAuktion: Ablauf Artikel Nr. 957854 GOK Regulierventiel 90 40-050-001-003
URL;VALUE=URI:https://www.myauktion.com/versteigerung7652-position2442414-gok-regulierventiel-90-40-050-001-003.php
DESCRIPTION:
UID:myauktion-7652-2442414
BEGIN:VALARM
ACTION:DISPLAY
DESCRIPTION:
TRIGGER:-PT10M
END:VALARM
END:VEVENT
END:VCALENDAR