BEGIN:VCALENDAR
VERSION:2.0
PRODID:-//Goldgrube//myauktion.com//AT
CALSCALE:GREGORIAN
BEGIN:VEVENT
DTSTART:20260505T121700
DTEND:20260505T121730
LOCATION:Gewerbepark 13, 8562 Mooskirchen
DTSTAMP:20260421T191101
SUMMARY:MyAuktion: Ablauf Artikel Nr. 957600 HP Envy 5030 Drucker 
URL;VALUE=URI:https://www.myauktion.com/versteigerung7652-position2442415-hp-envy-5030-drucker.php
DESCRIPTION:<div>Gebraucht ,Funktion nicht geprüft</div>
UID:myauktion-7652-2442415
BEGIN:VALARM
ACTION:DISPLAY
DESCRIPTION:<div>Gebraucht ,Funktion nicht geprüft</div>
TRIGGER:-PT10M
END:VALARM
END:VEVENT
END:VCALENDAR