BEGIN:VCALENDAR
VERSION:2.0
PRODID:-//Goldgrube//myauktion.com//AT
CALSCALE:GREGORIAN
BEGIN:VEVENT
DTSTART:20260505T114500
DTEND:20260505T114530
LOCATION:Gewerbepark 13, 8562 Mooskirchen
DTSTAMP:20260421T191053
SUMMARY:MyAuktion: Ablauf Artikel Nr. 957132 Bosch Series 6 Stabmixer Set 
URL;VALUE=URI:https://www.myauktion.com/versteigerung7652-position2442419-bosch-series-6-stabmixer-set.php
DESCRIPTION:Bosch MSM6M8X1
UID:myauktion-7652-2442419
BEGIN:VALARM
ACTION:DISPLAY
DESCRIPTION:Bosch MSM6M8X1
TRIGGER:-PT10M
END:VALARM
END:VEVENT
END:VCALENDAR