BEGIN:VCALENDAR
VERSION:2.0
PRODID:-//Goldgrube//myauktion.com//AT
CALSCALE:GREGORIAN
BEGIN:VEVENT
DTSTART:20260505T124700
DTEND:20260505T124730
LOCATION:Gewerbepark 13, 8562 Mooskirchen
DTSTAMP:20260421T191052
SUMMARY:MyAuktion: Ablauf Artikel Nr. 957856 FILO Form Connect MD1-FttH+1x90° entry 1x4-8mm +50ml MD
URL;VALUE=URI:https://www.myauktion.com/versteigerung7652-position2442420-filo-form-connect-md1-ftth-1x90-entry-1x4-8mm-50ml-md.php
DESCRIPTION:
UID:myauktion-7652-2442420
BEGIN:VALARM
ACTION:DISPLAY
DESCRIPTION:
TRIGGER:-PT10M
END:VALARM
END:VEVENT
END:VCALENDAR