BEGIN:VCALENDAR
VERSION:2.0
PRODID:-//Goldgrube//myauktion.com//AT
CALSCALE:GREGORIAN
BEGIN:VEVENT
DTSTART:20260505T114600
DTEND:20260505T114630
LOCATION:Gewerbepark 13, 8562 Mooskirchen
DTSTAMP:20260421T185422
SUMMARY:MyAuktion: Ablauf Artikel Nr. 957133 WS2811 RGB LED Pixelkette. 
URL;VALUE=URI:https://www.myauktion.com/versteigerung7652-position2442426-ws2811-rgb-led-pixelkette.php
DESCRIPTION:Type: P12XDB01A/RGB
UID:myauktion-7652-2442426
BEGIN:VALARM
ACTION:DISPLAY
DESCRIPTION:Type: P12XDB01A/RGB
TRIGGER:-PT10M
END:VALARM
END:VEVENT
END:VCALENDAR